BEGIN:VCALENDAR
VERSION:2.0
PRODID:-//OneGov//onegov.event//
BEGIN:VEVENT
SUMMARY:Autoren-Lesung: Carlo Janka hautnah erleben!
DTSTART:20260114T190000Z
DTEND:20260114T203000Z
DTSTAMP:20251211T161229Z
UID:autoren-lesung-carlo-janka-hautnah-erleben-2026-01-14@onegov.event
CATEGORIES:Youth,Sports,Culture,Library,Reading,Education
DESCRIPTION:Erleben Sie eine spannende Autoren-Lesung mit dem Olympiasiege
 r Carlo Janka aus seinem Buch "Durchbruch. Mein Weg - Dein Erfolg". Er nim
 mt uns mit auf eine bewegende Reise durch sein Leben. Seine Geschichte ber
 ührt und motiviert\, die eigenen Träume in die Tat umzusetzen. \nDie Pl
 ätze sind begrenzt\, wir bitten um Anmeldung via Email bibliothek@ottenba
 ch.ch oder in der Bibliothek. Weitere Informationen finden Sie auf beilieg
 endem Flyer oder auf www.bibliothek-ottenbach.ch\n
LAST-MODIFIED:20251211T161229Z
LOCATION:Bibliothek
URL:https://www.ottenbach.ch/event/autoren-lesung-carlo-janka-hautnah-erle
 ben-2026-01-14
END:VEVENT
END:VCALENDAR
