BEGIN:VCALENDAR
VERSION:2.0
PRODID:-//OneGov//onegov.event//
BEGIN:VEVENT
SUMMARY:Buchstart Treff "Liedli & Versli"
DTSTART:20241217T080000Z
DTEND:20241217T083000Z
DTSTAMP:20240619T102903Z
UID:buchstart-treff-liedli-versli-4-2024-12-17@onegov.event
CATEGORIES:Library
DESCRIPTION:Reime und Fingerverse für Kleinkinder von 0 Jahren bis Kinder
 garteneintritt. Tauchen Sie gemeinsam mit ihrem Kind in diese Welt der Ver
 se\, Liedli und Fingerspiele ein. Lassen Sie Ihr Kind Sprache hautnah erle
 ben und geniessen Sie die gemeinsame Zeit!
LAST-MODIFIED:20240619T102903Z
LOCATION:Bibliothek
URL:https://www.ottenbach.ch/event/buchstart-treff-liedli-versli-4-2024-12
 -17
END:VEVENT
END:VCALENDAR
