BEGIN:VCALENDAR
VERSION:2.0
PRODID:-//OneGov//onegov.event//
BEGIN:VEVENT
SUMMARY:Kamishibai Koffertheater
DTSTART:20221123T133000Z
DTEND:20221123T135000Z
DTSTAMP:20221004T100328Z
UID:kamishibai-koffertheater-1-2022-11-23@onegov.event
CATEGORIES:Youth,Library
DESCRIPTION:Lustige Geschichten aus dem Koffertheater für Kinder ab 3 Jah
 ren.
LAST-MODIFIED:20221004T100328Z
LOCATION:Bibliothek Ottenbach\, Affolternstrasse 5\, 8913 Ottenbach
URL:https://www.ottenbach.ch/event/kamishibai-koffertheater-1-2022-11-23
END:VEVENT
END:VCALENDAR
