BEGIN:VCALENDAR
VERSION:2.0
PRODID:-//OneGov//onegov.event//
BEGIN:VEVENT
SUMMARY:Kamishibai Koffertheater
DTSTART:20240117T133000Z
DTEND:20240117T135000Z
DTSTAMP:20231017T133540Z
UID:kamishibai-koffertheater-2-2024-01-17@onegov.event
CATEGORIES:Youth,Library
DESCRIPTION:Eine japanische Erzählkunst\nFür Spielgruppen-\, Kindergarte
 n und Unterstufenkinder\nOhne Anmeldung
LAST-MODIFIED:20231017T133540Z
LOCATION:Bibliothek Ottenbach\, Affolternstrasse 5\, 8913 Ottenbach
URL:https://www.ottenbach.ch/event/kamishibai-koffertheater-2-2024-01-17
END:VEVENT
END:VCALENDAR
