BEGIN:VCALENDAR
VERSION:2.0
PRODID:-//OneGov//onegov.event//
BEGIN:VEVENT
SUMMARY:Kamishibai-Koffertheater
DTSTART:20260114T133000Z
DTEND:20260114T135000Z
DTSTAMP:20251209T120333Z
UID:kamishibai-koffertheater-3-2026-01-14@onegov.event
CATEGORIES:Library,Theater,Education,Literature
DESCRIPTION:Kamishibai - Bilderbuchtheater für kleine Zuhörer.\nJapanisc
 hes Erzähltheater erleben mit spannenden und witzigen Geschichten auf der
  kleinen Bühne in der Bibliothek.
LAST-MODIFIED:20251209T120333Z
LOCATION:Bibliothek
URL:https://www.ottenbach.ch/event/kamishibai-koffertheater-3-2026-01-14
END:VEVENT
END:VCALENDAR
