BEGIN:VCALENDAR
VERSION:2.0
PRODID:-//OneGov//onegov.event//
BEGIN:VEVENT
SUMMARY:Stigeli Sprint 2023
DTSTART:20230701T081500Z
DTEND:20230701T103000Z
DTSTAMP:20230530T131852Z
UID:stigeli-sprint-2023-2023-07-01@onegov.event
CATEGORIES:Youth,Sports
DESCRIPTION:Melde dich jetzt für den Stigeli-Sprint am 1.Juli ( Verschieb
 edatum 8. Juli) bei uns an. \nAm Morgen findet der Stigeli Sprint\, welche
 r vom Wassersportclub Albis organisiert wird\, statt. \nInnerhalb der Kate
 gorien wird zwischen nicht lizenzierten und lizenzierten Schwimmerinnen un
 d Schwimmer unterteilt. \n\nAm Nachmittag findet der "Arschbombenkontest" 
 oder die "Glace-Challenge" statt. \n\nJede Teilnehmerin und jeder Teilnehm
 er erhält eine Medaille. Für die drei Erstplatzierten pro Kategorie habe
 n wir tolle Preise organisiert. \n
GEO:47.27757902122682;8.460331076066991
LAST-MODIFIED:20230530T131852Z
LOCATION:Schwimmbad Stigeli\, 8910 Affoltern a. A. 
URL:https://www.ottenbach.ch/event/stigeli-sprint-2023-2023-07-01
END:VEVENT
END:VCALENDAR
